BEGIN:VCALENDAR
VERSION:2.0
PRODID:-//ChamberMaster//Event Calendar 2.0//EN
METHOD:PUBLISH
X-PUBLISHED-TTL:P3D
REFRESH-INTERVAL:P3D
CALSCALE:GREGORIAN
BEGIN:VEVENT
DTSTART:20260311T140000Z
DTEND:20260311T160000Z
X-MICROSOFT-CDO-ALLDAYEVENT:FALSE
SUMMARY:YSpace North: Partnership Marketing - Giveaways\, Collaborations and Influencer Negotiation
DESCRIPTION:Partnership Marketing: Giveaways\, Collaborations and Influencer Negotiations\n\n\n\nPartnerships can amplify your reach\, strengthen your brand\, and open new opportunities when done strategically. In this workshop\, you'll learn how to plan and execute collaborations that make sense for your business\, from co-branded giveaways to influencer partnerships. Discover how to identify the right partners\, structure win-win agreements\, and manage collaborations that boost visibility\, grow your audience\, and drive real results.\n\nAbout the Facilitator\n\nWebsite: https://www.beveridgemarketing.com/\n\nElena Fordham is the Founder and Principal of Beveridge Marketing\, with more than 20 years of turning ideas into campaigns that inspire action and deliver results. A skilled brand strategist\, connector\, and storyteller\, she helps businesses craft clear marketing\, communications\, and influencer strategies. Her agency has partnered with clients across industries   from ambitious startups to legacy brands   including Southlake Health Foundation\, Union Station\, and Urban Planet. Elena brings a global perspective shaped by time living in Hong Kong\, Australia\, Greece\, and across Canada. She now resides in Aurora\, Ontario\, with her husband and two young sons. When she isn't working with clients\, Elena mentors emerging entrepreneurs and actively supports mental health and addictions initiatives with organizations such as CAMH and CMHA.
X-ALT-DESC;FMTTYPE=text/html:<div>\n<h3><strong style="font-size:13px">Partnership Marketing: Giveaways\, Collaborations and Influencer Negotiations</strong></h3>\n</div>\n\n<div>\n<p>Partnerships can amplify your reach\, strengthen your brand\, and open new opportunities when done strategically. In this workshop\, you&rsquo\;ll learn how to plan and execute collaborations that make sense for your business\, from co-branded giveaways to influencer partnerships. Discover how to identify the right partners\, structure win-win agreements\, and manage collaborations that boost visibility\, grow your audience\, and drive real results.</p>\n\n<h3><strong>About the Facilitator</strong></h3>\n\n<p><strong>Website: </strong><a href="https://www.beveridgemarketing.com/">https://www.beveridgemarketing.com/</a></p>\n\n<p>Elena Fordham is the Founder and Principal of Beveridge Marketing\, with more than 20 years of turning ideas into campaigns that inspire action and deliver results. A skilled brand strategist<strong>\,</strong> connector\, and storyteller\, she helps businesses craft clear marketing\, communications\, and influencer strategies. Her agency has partnered with clients across industries &mdash\; from ambitious startups to legacy brands &mdash\; including Southlake Health Foundation\, Union Station\, and Urban Planet. Elena brings a global perspective shaped by time living in Hong Kong\, Australia\, Greece\, and across Canada. She now resides in Aurora\, Ontario\, with her husband and two young sons. When she isn&rsquo\;t working with clients\, Elena mentors emerging entrepreneurs and actively supports mental health and addictions initiatives with organizations such as CAMH and CMHA.</p>\n</div>\n
LOCATION:Virtual workshop
UID:e.755.9872
SEQUENCE:3
DTSTAMP:20260421T085753Z
URL:https://www.georginachamber.com/events/details/yspace-north-partnership-marketing-giveaways-collaborations-and-influencer-negotiation-9872
END:VEVENT

END:VCALENDAR
