BEGIN:VCALENDAR
VERSION:2.0
PRODID:-//ChamberMaster//Event Calendar 2.0//EN
METHOD:PUBLISH
X-PUBLISHED-TTL:P3D
REFRESH-INTERVAL:P3D
CALSCALE:GREGORIAN
BEGIN:VEVENT
DTSTART:20201021T170000Z
DTEND:20201021T180000Z
X-MICROSOFT-CDO-ALLDAYEVENT:FALSE
SUMMARY:Paid Social Media Strategy
DESCRIPTION:Hosted by Snap'd Georgina\n\nWebinar Details: \n\n\n\n\n\n\n\n\n\n\n\n\nCreate smart strategy and build campaigns that make you money.
X-ALT-DESC;FMTTYPE=text/html:<p>Hosted by Snap&#39\;d Georgina<br />\nWebinar Details:&nbsp\;</p>\n\n<div>\n<div>\n<section class="elementor-section elementor-top-section elementor-element elementor-element-6f7faa7b elementor-section-boxed elementor-section-height-default elementor-section-height-default" data-element_type="section" data-id="6f7faa7b" style="box-sizing: border-box\; position: relative\;">\n<div class="elementor-container elementor-column-gap-default" style="box-sizing: border-box\; display: flex\; margin-right: auto\; margin-left: auto\; position: relative\; max-width: 1140px\;">\n<div class="elementor-row" style="box-sizing: border-box\; width: 1140px\; display: flex\;">\n<div class="elementor-column elementor-col-100 elementor-top-column elementor-element elementor-element-2e88010f" data-element_type="column" data-id="2e88010f" style="box-sizing: border-box\; min-height: 1px\; position: relative\; display: flex\; width: 1140px\;">\n<div class="elementor-column-wrap elementor-element-populated" style="box-sizing: border-box\; position: relative\; display: flex\; width: 1140px\; padding: 10px\;">\n<div class="elementor-widget-wrap" style="box-sizing: border-box\; position: relative\; width: 1120px\; flex-wrap: wrap\; align-content: flex-start\; display: flex\;">\n<div class="elementor-element elementor-element-7b92d7ed elementor-widget elementor-widget-text-editor" data-element_type="widget" data-id="7b92d7ed" data-widget_type="text-editor.default" style="box-sizing: border-box\; position: relative\; color: var( --e-global-color-text )\; font-family: var( --e-global-typography-text-font-family )\; font-weight: var( --e-global-typography-text-font-weight )\; width: 1120px\;">\n<div class="elementor-widget-container" style="box-sizing: border-box\; transition: background 0.3s ease 0s\, border 0.3s ease 0s\, border-radius 0.3s ease 0s\, box-shadow 0.3s ease 0s\, -webkit-border-radius 0.3s ease 0s\, -webkit-box-shadow 0.3s ease 0s\;">\n<div class="elementor-text-editor elementor-clearfix" style="box-sizing: border-box\;">\n<p style="box-sizing: border-box\; margin-top: 0px\; margin-bottom: 0.9rem\; text-align: center\;">Create smart strategy and build campaigns that make you money.</p>\n</div>\n</div>\n</div>\n</div>\n</div>\n</div>\n</div>\n</div>\n</section>\n\n<section class="elementor-section elementor-top-section elementor-element elementor-element-ba417cc elementor-section-boxed elementor-section-height-default elementor-section-height-default" data-element_type="section" data-id="ba417cc" style="box-sizing: border-box\; position: relative\;">\n<div class="elementor-container elementor-column-gap-default" style="box-sizing: border-box\; display: flex\; margin-right: auto\; margin-left: auto\; position: relative\; max-width: 1140px\;">\n<div class="elementor-row" style="box-sizing: border-box\; width: 1140px\; display: flex\;">\n<div class="elementor-column elementor-col-100 elementor-top-column elementor-element elementor-element-39edf483" data-element_type="column" data-id="39edf483" style="box-sizing: border-box\; min-height: 1px\; position: relative\; display: flex\; width: 1140px\;">\n<div class="elementor-column-wrap elementor-element-populated" style="box-sizing: border-box\; position: relative\; display: flex\; width: 1140px\; padding: 10px\;">\n<div class="elementor-widget-wrap" style="box-sizing: border-box\; position: relative\; width: 1120px\; flex-wrap: wrap\; align-content: flex-start\; display: flex\;">\n<section class="elementor-section elementor-inner-section elementor-element elementor-element-1266390d elementor-section-boxed elementor-section-height-default elementor-section-height-default" data-element_type="section" data-id="1266390d" style="box-sizing: border-box\; position: relative\; width: 1120px\;">\n<div class="elementor-container elementor-column-gap-default" style="box-sizing: border-box\; display: flex\; margin-right: auto\; margin-left: auto\; position: relative\; max-width: 1140px\;">\n<div class="elementor-row" style="box-sizing: border-box\; width: 1120px\; display: flex\;">\n<div class="elementor-column elementor-col-50 elementor-inner-column elementor-element elementor-element-6405535c" data-element_type="column" data-id="6405535c" style="box-sizing: border-box\; min-height: 1px\; position: relative\; display: flex\; width: 560px\; color: rgb(51\, 51\, 51)\; font-family: -apple-system\, BlinkMacSystemFont\, &quot\;Segoe UI&quot\;\, Roboto\, &quot\;Helvetica Neue&quot\;\, Arial\, &quot\;Noto Sans&quot\;\, sans-serif\; font-size: 16px\; background-color: rgb(255\, 255\, 255)\;">\n<div class="elementor-column-wrap elementor-element-populated" style="box-sizing: border-box\; position: relative\; display: flex\; width: 560px\; padding: 10px\;">\n<div class="elementor-widget-wrap" style="box-sizing: border-box\; position: relative\; width: 540px\; flex-wrap: wrap\; align-content: flex-start\; display: flex\;">\n<div class="elementor-element elementor-element-46dd7c5d elementor-aspect-ratio-169 elementor-widget elementor-widget-video" data-element_type="widget" data-id="46dd7c5d" data-settings="{&quot\;aspect_ratio&quot\;:&quot\;169&quot\;}" data-widget_type="video.default" style="box-sizing: border-box\; position: relative\; width: 540px\;">\n<div class="elementor-widget-container" style="box-sizing: border-box\; transition: background 0.3s ease 0s\, border 0.3s ease 0s\, border-radius 0.3s ease 0s\, box-shadow 0.3s ease 0s\, -webkit-border-radius 0.3s ease 0s\, -webkit-box-shadow 0.3s ease 0s\; overflow: hidden\; transform: translateZ(0px)\;">\n<div class="elementor-wrapper elementor-fit-aspect-ratio elementor-open-inline" style="box-sizing: border-box\; position: relative\; height: 0px\; padding-bottom: 303.75px\;"><iframe allowfullscreen="" class="elementor-video-iframe" src="https://www.youtube.com/embed/rnTxxIr-Ud8?feature=oembed&amp\;start&amp\;end&amp\;wmode=opaque&amp\;loop=0&amp\;controls=1&amp\;mute=0&amp\;rel=0&amp\;modestbranding=0" style="box-sizing: border-box\; position: absolute\; top: 0px\; left: 0px\; height: 303.75px\; width: 540px\; border-width: initial\; border-style: none\; background-color: rgb(0\, 0\, 0)\; max-width: 100%\; margin: 0px\; line-height: 1\;" title="youtube Video Player"></iframe></div>\n</div>\n</div>\n</div>\n</div>\n</div>\n\n<div class="elementor-column elementor-col-50 elementor-inner-column elementor-element elementor-element-26b120ff" data-element_type="column" data-id="26b120ff" style="box-sizing: border-box\; min-height: 1px\; position: relative\; display: flex\; width: 560px\; color: rgb(51\, 51\, 51)\; font-family: -apple-system\, BlinkMacSystemFont\, &quot\;Segoe UI&quot\;\, Roboto\, &quot\;Helvetica Neue&quot\;\, Arial\, &quot\;Noto Sans&quot\;\, sans-serif\; font-size: 16px\; background-color: rgb(255\, 255\, 255)\;">\n<div class="elementor-column-wrap elementor-element-populated" style="box-sizing: border-box\; position: relative\; display: flex\; width: 560px\; padding: 10px\;">\n<div class="elementor-widget-wrap" style="box-sizing: border-box\; position: relative\; width: 540px\; flex-wrap: wrap\; align-content: flex-start\; display: flex\;">\n<div class="elementor-element elementor-element-7d99cc87 elementor-button-align-stretch elementor-widget elementor-widget-form" data-element_type="widget" data-id="7d99cc87" data-settings="{&quot\;step_next_label&quot\;:&quot\;Next&quot\;\,&quot\;step_previous_label&quot\;:&quot\;Previous&quot\;\,&quot\;button_width&quot\;:&quot\;100&quot\;\,&quot\;step_type&quot\;:&quot\;number_text&quot\;\,&quot\;step_icon_shape&quot\;:&quot\;circle&quot\;}" data-widget_type="form.default" style="box-sizing: border-box\; position: relative\; --e-form-steps-indicator-inactive-primary-color:var( --e-global-color-text )\; --e-form-steps-indicator-active-primary-color:var( --e-global-color-accent )\; --e-form-steps-indicator-completed-primary-color:var( --e-global-color-accent )\; --e-form-steps-indicator-progress-color:var( --e-global-color-accent )\; --e-form-steps-indicator-progress-background-color:var( --e-global-color-text )\; --e-form-steps-indicator-progress-meter-color:var( --e-global-color-text )\; width: 540px\; --e-form-steps-indicators-spacing:20px\; --e-form-steps-indicator-padding:30px\; --e-form-steps-indicator-inactive-secondary-color:#ffffff\; --e-form-steps-indicator-active-secondary-color:#ffffff\; --e-form-steps-indicator-completed-secondary-color:#ffffff\; --e-form-steps-divider-width:1px\; --e-form-steps-divider-gap:10px\;">\n<div class="elementor-widget-container" style="box-sizing: border-box\; transition: background 0.3s ease 0s\, border 0.3s ease 0s\, border-radius 0.3s ease 0s\, box-shadow 0.3s ease 0s\, -webkit-border-radius 0.3s ease 0s\, -webkit-box-shadow 0.3s ease 0s\;">\n<div class="elementor-form-fields-wrapper elementor-labels-above" style="box-sizing: border-box\; display: flex\; flex-wrap: wrap\; margin-left: calc(-5px)\; margin-right: calc(-5px)\; margin-bottom: -10px\;">\n<div class="elementor-field-type-text elementor-field-group elementor-column elementor-field-group-name elementor-col-100 elementor-field-required elementor-mark-required" style="box-sizing: border-box\; min-height: 1px\; position: relative\; display: flex\; flex-wrap: wrap\; -webkit-box-align: center\; align-items: center\; width: 550px\; padding-right: calc(5px)\; padding-left: calc(5px)\; margin-bottom: 10px\;">&nbsp\;</div>\n</div>\n</div>\n</div>\n</div>\n</div>\n</div>\n</div>\n</div>\n</section>\n</div>\n</div>\n</div>\n</div>\n</div>\n</section>\n</div>\n</div>\n\n<div>&nbsp\;</div>\n
LOCATION:Online
UID:e.755.6295
SEQUENCE:3
DTSTAMP:20260420T201156Z
URL:https://www.georginachamber.com/events/details/paid-social-media-strategy-6295
END:VEVENT

END:VCALENDAR
