BEGIN:VCALENDAR
VERSION:2.0
PRODID:-//ChamberMaster//Event Calendar 2.0//EN
METHOD:PUBLISH
X-PUBLISHED-TTL:P3D
REFRESH-INTERVAL:P3D
CALSCALE:GREGORIAN
BEGIN:VEVENT
DTSTART:20260613T180000Z
DTEND:20260613T200000Z
X-MICROSOFT-CDO-ALLDAYEVENT:FALSE
SUMMARY:Outdoor Tea Party
DESCRIPTION:Join us for our first annual Outdoor Tea Party this June!\n\nDress up and come enjoy an afternoon of tea\, treats\, and prizes in our new covered outdoor event space! Each guest will recieve a small thank you gift for joining us\, as well as a chance to win prizes throughout the afternoon.\n\nPrizes will be given out for best dressed & best hat so be sure to dress to the nines.\n\n\n\nPre-registration required. Email EventsAt48@gmail.com to secure your spot today!
X-ALT-DESC;FMTTYPE=text/html:<div>\n<div>Join us for our first annual Outdoor Tea Party this June!</div>\n\n<div>Dress up and come enjoy an afternoon of tea\, treats\, and prizes in our new covered outdoor event space! Each guest will recieve a small thank you gift for joining us\, as well as a chance to win prizes throughout the afternoon.</div>\n\n<div>Prizes will be given out for best dressed &amp\; best hat so be sure to dress to the nines.</div>\n</div>\n\n<div>\n<div>Pre-registration required. Email EventsAt48@gmail.com to secure your spot today!</div>\n</div>\n
LOCATION:Antiques on 48\, 23906 Highway 48\, Baldwin
UID:e.755.9920
SEQUENCE:3
DTSTAMP:20260422T215455Z
URL:https://www.georginachamber.com/events/details/outdoor-tea-party-9920
END:VEVENT

END:VCALENDAR
