BEGIN:VCALENDAR
VERSION:2.0
PRODID:-//ChamberMaster//Event Calendar 2.0//EN
METHOD:PUBLISH
X-PUBLISHED-TTL:P3D
REFRESH-INTERVAL:P3D
CALSCALE:GREGORIAN
BEGIN:VEVENT
DTSTART:20250606T220000Z
DTEND:20250607T010000Z
X-MICROSOFT-CDO-ALLDAYEVENT:FALSE
SUMMARY:OPEN MIC Friday Nights at Symposium Cafe Restaurant Keswick!
DESCRIPTION:Reserve your spot at Symposium Cafe Restaurant Keswick for OPEN MIC Friday Nights. Whether you're looking for a place show off your skills on stage\, or want to just sit back\, relax and take in all the local musician talent from the Georgina and Lake Simcoe area\, Symposium Keswick's the place to be on Fridays. Plan a special date night or come in with a large group of friends to enjoy great live music\, refreshing beverages and delicious food. Hosted by Rachel Anderson.\n\nFRIDAY'S DAILY SPECIALS include:\n\n\n	Dinner for Two prix fixe\n	Free Bowl Chowder with Seafood menu item\n	Friday Fish & Chips Feature\n	$10 Bottles Wine and Prosecco\n	Happy Hour $5 Wine & Beer 3-6pm & 9pm - close
X-ALT-DESC;FMTTYPE=text/html:<p>Reserve your spot at Symposium Cafe Restaurant Keswick for OPEN MIC Friday Nights. Whether you&rsquo\;re looking for a place show off your skills on stage\, or want to just sit back\, relax and take in all the local musician talent from the Georgina and Lake Simcoe area\, Symposium Keswick&rsquo\;s the place to be on Fridays. Plan a special date night or come in with a large group of friends to enjoy great live music\, refreshing beverages and delicious food. Hosted by Rachel Anderson.</p>\n\n<p>FRIDAY&rsquo\;S DAILY SPECIALS include:</p>\n\n<ul>\n	<li>Dinner for Two prix fixe</li>\n	<li>Free Bowl Chowder with Seafood menu item</li>\n	<li>Friday Fish &amp\; Chips Feature</li>\n	<li>$10 Bottles Wine and Prosecco</li>\n	<li>Happy Hour $5 Wine &amp\; Beer 3-6pm &amp\; 9pm - close</li>\n</ul>\n
LOCATION:
UID:e.755.9495
SEQUENCE:3
DTSTAMP:20260420T191728Z
URL:https://www.georginachamber.com/events/details/open-mic-friday-nights-at-symposium-cafe-restaurant-keswick-06-06-2025-9495
END:VEVENT

END:VCALENDAR
