BEGIN:VCALENDAR
VERSION:2.0
PRODID:-//ChamberMaster//Event Calendar 2.0//EN
METHOD:PUBLISH
X-PUBLISHED-TTL:P3D
REFRESH-INTERVAL:P3D
CALSCALE:GREGORIAN
BEGIN:VEVENT
DTSTART:20260423T180000Z
DTEND:20260423T190000Z
X-MICROSOFT-CDO-ALLDAYEVENT:FALSE
SUMMARY:MOL / Labour Board Inspection Nightmares: Compliance for Small Business Owners
DESCRIPTION:For a small business or nonprofit\, a Ministry of Labour (MoL) inspection isn't just a formality it's a high-stakes event. A single missing poster\, an outdated health and safety policy\, or an incorrectly worded contract can trigger thousands in fines or an immediate stop-work order. Don't wait for the knock on the door. Join us for a high-impact session designed to "inspector-proof" your organization. We're pulling back the curtain on the MoL playbook to show you exactly what they look for and how to stay off their radar. Featuring: Darcy Michaud As the Chief Services Officer at HR Covered\, Darcy Michaud has spent decades navigating the complexities of both the public and private sectors. Known in the industry as the "Compliance Whisperer\," Darcy specializes in turning high-stress legal nightmares into manageable\, airtight business strategies. Darcy's sessions are famous for their unscripted\, interactive Q&A. This is your chance to put a subject matter expert in the hot seat. Bring your toughest\, most specific contract questions and get the practical\, expert guidance you need to protect your organization immediately. Darcy will be joined by Kim Allen\, Director of Account Management at HR Covered Inc.\, who will serve as the host. Together\, they'll lead a live Q&A at the end of the presentation offering clear\, practical guidance on your most pressing HR challenges. The Agenda: What We're Covering    The Red Flags: Why they chose your business and how to stay off their radar.    The "Golden Hour": The first 60 minutes of an inspection can save or sink you.    Nightmare Files: Real-life stories of small businesses that lost it all and how you can avoid their mistakes.    Live "Open Mic" with Darcy: No scripts and no fluff. Just direct answers to your most pressing compliance fears. Can't attend live? Register and we'll send you the full recording.
X-ALT-DESC;FMTTYPE=text/html:<span style="color: rgb(35\, 35\, 51)\; font-family: &quot\;Helvetica Neue&quot\;\, Helvetica\, Arial\, sans-serif\; font-size: 14px\; white-space: pre-wrap\;">For a small business or nonprofit\, a Ministry of Labour (MoL) inspection isn&rsquo\;t just a formality&mdash\;it&rsquo\;s a high-stakes event. A single missing poster\, an outdated health and safety policy\, or an incorrectly worded contract can trigger thousands in fines or an immediate stop-work order. Don&rsquo\;t wait for the knock on the door. Join us for a high-impact session designed to &quot\;inspector-proof&quot\; your organization. We&rsquo\;re pulling back the curtain on the MoL playbook to show you exactly what they look for and how to stay off their radar. Featuring: Darcy Michaud As the Chief Services Officer at HR Covered\, Darcy Michaud has spent decades navigating the complexities of both the public and private sectors. Known in the industry as the &quot\;Compliance Whisperer\,&quot\; Darcy specializes in turning high-stress legal nightmares into manageable\, airtight business strategies. Darcy&rsquo\;s sessions are famous for their unscripted\, interactive Q&amp\;A. This is your chance to put a subject matter expert in the hot seat. Bring your toughest\, most specific contract questions and get the practical\, expert guidance you need to protect your organization immediately. Darcy will be joined by Kim Allen\, Director of Account Management at HR Covered Inc.\, who will serve as the host. Together\, they&rsquo\;ll lead a live Q&amp\;A at the end of the presentation&mdash\;offering clear\, practical guidance on your most pressing HR challenges. The Agenda: What We&rsquo\;re Covering &#10004\;&#65039\; The Red Flags: Why they chose your business and how to stay off their radar. &#10004\;&#65039\; The &quot\;Golden Hour&quot\;: The first 60 minutes of an inspection can save or sink you. &#10004\;&#65039\; Nightmare Files: Real-life stories of small businesses that lost it all and how you can avoid their mistakes. &#10004\;&#65039\; Live &quot\;Open Mic&quot\; with Darcy: No scripts and no fluff. Just direct answers to your most pressing compliance fears. Can&rsquo\;t attend live? <a href="https://us06web.zoom.us/webinar/register/9717756718780/WN_xFmKo4uqSBecQpF2utCaJA#/registration">Register and we&rsquo\;ll send you the full recording. </a></span>
LOCATION:Online Webinar
UID:e.755.9922
SEQUENCE:3
DTSTAMP:20260423T165017Z
URL:https://www.georginachamber.com/events/details/mol-labour-board-inspection-nightmares-compliance-for-small-business-owners-9922
END:VEVENT

END:VCALENDAR
