BEGIN:VCALENDAR
VERSION:2.0
PRODID:-//ChamberMaster//Event Calendar 2.0//EN
METHOD:PUBLISH
X-PUBLISHED-TTL:P3D
REFRESH-INTERVAL:P3D
CALSCALE:GREGORIAN
BEGIN:VEVENT
DTSTART:20260425T163000Z
DTEND:20260425T183000Z
X-MICROSOFT-CDO-ALLDAYEVENT:FALSE
SUMMARY:Celebrate Mother's Day with The Junior Optimist Club Spring Tea Fundraiser
DESCRIPTION:Celebrate Mother's Day with The Junior Optimist Club Spring Tea Fundraiser\n\nOur Junior Club Members will be making and serving a selection of sandwiches and desserts. To reserve a table e-mail junioroptimistclub@gmail.com or call 647-291-0798.
X-ALT-DESC;FMTTYPE=text/html:<strong>Celebrate Mother&#39\;s Day with The Junior Optimist Club Spring Tea Fundraiser</strong><br />\nOur Junior Club Members will be making and serving a selection of sandwiches and desserts. To reserve a table e-mail <a href="mailto:junioroptimistclub@gmail.com">junioroptimistclub@gmail.com</a> or call 647-291-0798.
LOCATION:The Link\, 20849 Dalton Road\, Sutton
UID:e.755.9900
SEQUENCE:3
DTSTAMP:20260421T060807Z
URL:https://www.georginachamber.com/events/details/celebrate-mother-s-day-with-the-junior-optimist-club-spring-tea-fundraiser-9900
END:VEVENT

END:VCALENDAR
